BEGIN:VCALENDAR
VERSION:2.0
PRODID:-//PYVOBJECT//NONSGML Version 0.9.9//EN
X-WR-TIMEZONE:Africa/Johannesburg
BEGIN:VTIMEZONE
TZID:Africa/Johannesburg
BEGIN:STANDARD
DTSTART:20000101T000000
RRULE:FREQ=YEARLY;BYMONTH=1
TZNAME:SAST
TZOFFSETFROM:+0200
TZOFFSETTO:+0200
END:STANDARD
END:VTIMEZONE
BEGIN:VEVENT
UID:20260421T193508Z - 32270@eos-content
DTSTART;TZID=Africa/Johannesburg:20260426T140000
DTEND;TZID=Africa/Johannesburg:20260426T163000
ATTENDEE:MAILTO:gugulethu.motha@seeff.com
DESCRIPTION:https://richardsbay.seeff.com//results/residential/for-sale/ric
 hards-bay/birdswood/house/3140991/\n\nFollow our boards in Birdswood and v
 isit our show day.\n\nGugulethu Motha (073 026 5665)
DTSTAMP:20260421T193508Z
LOCATION:Birdswood\, Richards Bay
SUMMARY:Seeff Property Group Show Day - RLS1000939
END:VEVENT
END:VCALENDAR
